Package: methylCC Version: 1.20.0 Command: /home/biocbuild/bbs-3.20-bioc/R/bin/R CMD build --keep-empty-dirs --no-resave-data --md5 methylCC StartedAt: 2025-02-10 18:01:44 -0500 (Mon, 10 Feb 2025) EndedAt: 2025-02-10 18:05:13 -0500 (Mon, 10 Feb 2025) EllapsedTime: 209.2 seconds RetCode: 0 Status: OK PackageFile: methylCC_1.20.0.tar.gz PackageFileSize: 4.375 MiB