Package: methylCC Version: 1.20.0 Command: /home/biocbuild/bbs-3.20-bioc/R/bin/R CMD check --install=check:methylCC.install-out.txt --library=/home/biocbuild/bbs-3.20-bioc/R/site-library --timings methylCC_1.20.0.tar.gz StartedAt: 2025-02-10 23:49:49 -0500 (Mon, 10 Feb 2025) EndedAt: 2025-02-10 23:59:29 -0500 (Mon, 10 Feb 2025) EllapsedTime: 580.5 seconds RetCode: 0 Status: OK CheckDir: methylCC.Rcheck Warnings: 0