Package: methylCC Version: 1.20.0 Command: chmod a+r methylCC -R && F:\biocbuild\bbs-3.20-bioc\R\bin\R.exe CMD build --keep-empty-dirs --no-resave-data methylCC StartedAt: 2025-02-10 20:10:19 -0500 (Mon, 10 Feb 2025) EndedAt: 2025-02-10 20:15:11 -0500 (Mon, 10 Feb 2025) EllapsedTime: 292.2 seconds RetCode: 0 Status: OK PackageFile: methylCC_1.20.0.tar.gz PackageFileSize: 4.315 MiB