Package: methylCC Version: 1.20.0 Command: F:\biocbuild\bbs-3.20-bioc\R\bin\R.exe CMD INSTALL methylCC StartedAt: 2025-02-03 17:13:14 -0500 (Mon, 03 Feb 2025) EndedAt: 2025-02-03 17:14:15 -0500 (Mon, 03 Feb 2025) EllapsedTime: 61.2 seconds RetCode: 0 Status: OK