Package: methylCC Version: 1.20.0 Command: /home/biocbuild/R/R/bin/R CMD INSTALL methylCC StartedAt: 2025-02-03 21:20:10 -0000 (Mon, 03 Feb 2025) EndedAt: 2025-02-03 21:21:12 -0000 (Mon, 03 Feb 2025) EllapsedTime: 62.4 seconds RetCode: 0 Status: OK