Package: methylInheritance Version: 1.30.0 Command: rm -rf methylInheritance.buildbin-libdir && mkdir methylInheritance.buildbin-libdir && /Users/biocbuild/BBS/utils/build-universal.sh methylInheritance_1.30.0.tar.gz /Library/Frameworks/R.framework/Resources/bin/R methylInheritance.buildbin-libdir StartedAt: 2025-02-05 16:36:42 -0500 (Wed, 05 Feb 2025) EndedAt: 2025-02-05 16:37:30 -0500 (Wed, 05 Feb 2025) EllapsedTime: 47.4 seconds RetCode: 0 Status: OK PackageFile: methylInheritance_1.30.0.tgz PackageFileSize: 1.82 MiB