Package: methylInheritance Version: 1.30.0 Command: /Library/Frameworks/R.framework/Resources/bin/R CMD check --install=check:methylInheritance.install-out.txt --library=/Library/Frameworks/R.framework/Resources/library --no-vignettes --timings methylInheritance_1.30.0.tar.gz StartedAt: 2025-02-12 00:52:38 -0500 (Wed, 12 Feb 2025) EndedAt: 2025-02-12 01:01:39 -0500 (Wed, 12 Feb 2025) EllapsedTime: 541.3 seconds RetCode: 0 Status: OK CheckDir: methylInheritance.Rcheck Warnings: 0