Package: methylInheritance Version: 1.30.0 Command: /Library/Frameworks/R.framework/Resources/bin/R CMD build --keep-empty-dirs --no-resave-data methylInheritance StartedAt: 2025-02-03 20:12:49 -0500 (Mon, 03 Feb 2025) EndedAt: 2025-02-03 20:15:44 -0500 (Mon, 03 Feb 2025) EllapsedTime: 174.3 seconds RetCode: 0 Status: OK PackageFile: methylInheritance_1.30.0.tar.gz PackageFileSize: 1.708 MiB