Package: methylInheritance Version: 1.30.0 Command: /Library/Frameworks/R.framework/Resources/bin/R CMD check --install=check:methylInheritance.install-out.txt --library=/Library/Frameworks/R.framework/Resources/library --no-vignettes --timings methylInheritance_1.30.0.tar.gz StartedAt: 2025-02-04 06:11:13 -0500 (Tue, 04 Feb 2025) EndedAt: 2025-02-04 06:30:59 -0500 (Tue, 04 Feb 2025) EllapsedTime: 1186.3 seconds RetCode: 0 Status: OK CheckDir: methylInheritance.Rcheck Warnings: 0