Package: methylInheritance Version: 1.30.0 Command: /Library/Frameworks/R.framework/Resources/bin/R CMD INSTALL methylInheritance StartedAt: 2025-02-10 15:33:25 -0500 (Mon, 10 Feb 2025) EndedAt: 2025-02-10 15:34:47 -0500 (Mon, 10 Feb 2025) EllapsedTime: 81.9 seconds RetCode: 0 Status: OK