Package: methylInheritance Version: 1.30.0 Command: rm -rf methylInheritance.buildbin-libdir && mkdir methylInheritance.buildbin-libdir && F:\biocbuild\bbs-3.20-bioc\R\bin\R.exe CMD INSTALL --build --library=methylInheritance.buildbin-libdir methylInheritance_1.30.0.tar.gz StartedAt: 2025-02-04 08:54:10 -0500 (Tue, 04 Feb 2025) EndedAt: 2025-02-04 08:56:32 -0500 (Tue, 04 Feb 2025) EllapsedTime: 141.6 seconds RetCode: 0 Status: OK PackageFile: methylInheritance_1.30.0.zip PackageFileSize: 1.801 MiB