Package: methylInheritance Version: 1.30.0 Command: chmod a+r methylInheritance -R && F:\biocbuild\bbs-3.20-bioc\R\bin\R.exe CMD build --keep-empty-dirs --no-resave-data methylInheritance StartedAt: 2025-02-03 20:16:46 -0500 (Mon, 03 Feb 2025) EndedAt: 2025-02-03 20:18:27 -0500 (Mon, 03 Feb 2025) EllapsedTime: 100.3 seconds RetCode: 0 Status: OK PackageFile: methylInheritance_1.30.0.tar.gz PackageFileSize: 1.671 MiB