Package: methylInheritance Version: 1.30.0 Command: /home/biocbuild/R/R/bin/R CMD INSTALL methylInheritance StartedAt: 2025-02-03 20:40:55 -0000 (Mon, 03 Feb 2025) EndedAt: 2025-02-03 20:41:44 -0000 (Mon, 03 Feb 2025) EllapsedTime: 48.6 seconds RetCode: 0 Status: OK