Package: methylMnM Version: 1.44.0 Command: /Library/Frameworks/R.framework/Resources/bin/R CMD build --keep-empty-dirs --no-resave-data methylMnM StartedAt: 2025-02-03 20:13:42 -0500 (Mon, 03 Feb 2025) EndedAt: 2025-02-03 20:15:57 -0500 (Mon, 03 Feb 2025) EllapsedTime: 135.7 seconds RetCode: 0 Status: OK PackageFile: methylMnM_1.44.0.tar.gz PackageFileSize: 8.51 MiB