Package: methylMnM Version: 1.44.0 Command: /Library/Frameworks/R.framework/Resources/bin/R CMD check --install=check:methylMnM.install-out.txt --library=/Library/Frameworks/R.framework/Resources/library --no-vignettes --timings methylMnM_1.44.0.tar.gz StartedAt: 2025-02-11 06:14:24 -0500 (Tue, 11 Feb 2025) EndedAt: 2025-02-11 06:15:30 -0500 (Tue, 11 Feb 2025) EllapsedTime: 66.2 seconds RetCode: 0 Status: OK CheckDir: methylMnM.Rcheck Warnings: 0