Package: methylMnM Version: 1.44.0 Command: /Library/Frameworks/R.framework/Resources/bin/R CMD INSTALL methylMnM StartedAt: 2025-02-10 15:09:17 -0500 (Mon, 10 Feb 2025) EndedAt: 2025-02-10 15:09:40 -0500 (Mon, 10 Feb 2025) EllapsedTime: 23.1 seconds RetCode: 0 Status: OK