Package: methylMnM Version: 1.44.0 Command: rm -rf methylMnM.buildbin-libdir && mkdir methylMnM.buildbin-libdir && F:\biocbuild\bbs-3.20-bioc\R\bin\R.exe CMD INSTALL --build --library=methylMnM.buildbin-libdir methylMnM_1.44.0.tar.gz StartedAt: 2025-02-04 08:54:25 -0500 (Tue, 04 Feb 2025) EndedAt: 2025-02-04 08:54:58 -0500 (Tue, 04 Feb 2025) EllapsedTime: 33.2 seconds RetCode: 0 Status: OK PackageFile: methylMnM_1.44.0.zip PackageFileSize: 8.503 MiB