Package: methylMnM Version: 1.44.0 Command: chmod a+r methylMnM -R && F:\biocbuild\bbs-3.20-bioc\R\bin\R.exe CMD build --keep-empty-dirs --no-resave-data methylMnM StartedAt: 2025-02-10 20:12:03 -0500 (Mon, 10 Feb 2025) EndedAt: 2025-02-10 20:13:24 -0500 (Mon, 10 Feb 2025) EllapsedTime: 80.6 seconds RetCode: 0 Status: OK PackageFile: methylMnM_1.44.0.tar.gz PackageFileSize: 8.411 MiB