Package: methylMnM Version: 1.44.0 Command: F:\biocbuild\bbs-3.20-bioc\R\bin\R.exe CMD check --no-multiarch --install=check:methylMnM.install-out.txt --library=F:\biocbuild\bbs-3.20-bioc\R\library --no-vignettes --timings methylMnM_1.44.0.tar.gz StartedAt: 2025-02-04 03:37:55 -0500 (Tue, 04 Feb 2025) EndedAt: 2025-02-04 03:38:41 -0500 (Tue, 04 Feb 2025) EllapsedTime: 45.9 seconds RetCode: 0 Status: OK CheckDir: methylMnM.Rcheck Warnings: 0