Package: methylMnM Version: 1.44.0 Command: /home/biocbuild/R/R/bin/R CMD build --keep-empty-dirs --no-resave-data methylMnM StartedAt: 2025-02-04 00:52:50 -0000 (Tue, 04 Feb 2025) EndedAt: 2025-02-04 00:54:44 -0000 (Tue, 04 Feb 2025) EllapsedTime: 114.0 seconds RetCode: 0 Status: OK PackageFile: methylMnM_1.44.0.tar.gz PackageFileSize: 8.501 MiB