Package: methylMnM Version: 1.44.0 Command: /home/biocbuild/R/R/bin/R CMD check --install=check:methylMnM.install-out.txt --library=/home/biocbuild/R/R/site-library --no-vignettes --timings methylMnM_1.44.0.tar.gz StartedAt: 2025-02-04 08:41:00 -0000 (Tue, 04 Feb 2025) EndedAt: 2025-02-04 08:41:31 -0000 (Tue, 04 Feb 2025) EllapsedTime: 31.0 seconds RetCode: 0 Status: OK CheckDir: methylMnM.Rcheck Warnings: 0