Package: methylPipe Version: 1.40.0 Command: rm -rf methylPipe.buildbin-libdir && mkdir methylPipe.buildbin-libdir && /Users/biocbuild/BBS/utils/build-universal.sh methylPipe_1.40.0.tar.gz /Library/Frameworks/R.framework/Resources/bin/R methylPipe.buildbin-libdir StartedAt: 2025-02-05 16:37:04 -0500 (Wed, 05 Feb 2025) EndedAt: 2025-02-05 16:38:13 -0500 (Wed, 05 Feb 2025) EllapsedTime: 68.8 seconds RetCode: 0 Status: OK PackageFile: methylPipe_1.40.0.tgz PackageFileSize: 1.482 MiB