Package: methylPipe Version: 1.40.0 Command: /Library/Frameworks/R.framework/Resources/bin/R CMD build --keep-empty-dirs --no-resave-data methylPipe StartedAt: 2025-02-04 03:14:50 -0500 (Tue, 04 Feb 2025) EndedAt: 2025-02-04 03:17:57 -0500 (Tue, 04 Feb 2025) EllapsedTime: 187.4 seconds RetCode: 0 Status: OK PackageFile: methylPipe_1.40.0.tar.gz PackageFileSize: 792.7 KiB