Package: methylPipe Version: 1.40.0 Command: /Library/Frameworks/R.framework/Resources/bin/R CMD check --install=check:methylPipe.install-out.txt --library=/Library/Frameworks/R.framework/Resources/library --no-vignettes --timings methylPipe_1.40.0.tar.gz StartedAt: 2025-02-05 01:30:38 -0500 (Wed, 05 Feb 2025) EndedAt: 2025-02-05 01:39:18 -0500 (Wed, 05 Feb 2025) EllapsedTime: 520.1 seconds RetCode: 0 Status: WARNINGS CheckDir: methylPipe.Rcheck Warnings: 2