Package: methylPipe Version: 1.40.0 Command: /Library/Frameworks/R.framework/Resources/bin/R CMD INSTALL methylPipe StartedAt: 2025-02-03 16:43:16 -0500 (Mon, 03 Feb 2025) EndedAt: 2025-02-03 16:44:18 -0500 (Mon, 03 Feb 2025) EllapsedTime: 62.0 seconds RetCode: 0 Status: OK