Package: methylPipe Version: 1.40.0 Command: rm -rf methylPipe.buildbin-libdir && mkdir methylPipe.buildbin-libdir && /Users/biocbuild/BBS/utils/build-universal.sh methylPipe_1.40.0.tar.gz /Library/Frameworks/R.framework/Resources/bin/R methylPipe.buildbin-libdir StartedAt: 2025-02-04 13:23:59 -0500 (Tue, 04 Feb 2025) EndedAt: 2025-02-04 13:26:48 -0500 (Tue, 04 Feb 2025) EllapsedTime: 168.4 seconds RetCode: 0 Status: OK PackageFile: methylPipe_1.40.0.tgz PackageFileSize: 1.482 MiB