Package: methylPipe Version: 1.40.0 Command: /Library/Frameworks/R.framework/Resources/bin/R CMD build --keep-empty-dirs --no-resave-data methylPipe StartedAt: 2025-02-10 20:13:45 -0500 (Mon, 10 Feb 2025) EndedAt: 2025-02-10 20:19:24 -0500 (Mon, 10 Feb 2025) EllapsedTime: 339.5 seconds RetCode: 0 Status: OK PackageFile: methylPipe_1.40.0.tar.gz PackageFileSize: 792.7 KiB