Package: methylPipe Version: 1.40.0 Command: /Library/Frameworks/R.framework/Resources/bin/R CMD check --install=check:methylPipe.install-out.txt --library=/Library/Frameworks/R.framework/Resources/library --no-vignettes --timings methylPipe_1.40.0.tar.gz StartedAt: 2025-02-04 06:12:12 -0500 (Tue, 04 Feb 2025) EndedAt: 2025-02-04 06:27:29 -0500 (Tue, 04 Feb 2025) EllapsedTime: 917.6 seconds RetCode: 0 Status: WARNINGS CheckDir: methylPipe.Rcheck Warnings: 2