Package: methylPipe Version: 1.40.0 Command: /home/biocbuild/bbs-3.20-bioc/R/bin/R CMD check --install=check:methylPipe.install-out.txt --library=/home/biocbuild/bbs-3.20-bioc/R/site-library --timings methylPipe_1.40.0.tar.gz StartedAt: 2025-02-04 00:02:00 -0500 (Tue, 04 Feb 2025) EndedAt: 2025-02-04 00:11:11 -0500 (Tue, 04 Feb 2025) EllapsedTime: 551.6 seconds RetCode: 0 Status: WARNINGS CheckDir: methylPipe.Rcheck Warnings: 2