Package: methylPipe Version: 1.40.0 Command: chmod a+r methylPipe -R && F:\biocbuild\bbs-3.20-bioc\R\bin\R.exe CMD build --keep-empty-dirs --no-resave-data methylPipe StartedAt: 2025-02-03 20:17:41 -0500 (Mon, 03 Feb 2025) EndedAt: 2025-02-03 20:21:29 -0500 (Mon, 03 Feb 2025) EllapsedTime: 228.1 seconds RetCode: 0 Status: OK PackageFile: methylPipe_1.40.0.tar.gz PackageFileSize: 783.9 KiB