Package: methylPipe Version: 1.40.0 Command: F:\biocbuild\bbs-3.20-bioc\R\bin\R.exe CMD INSTALL methylPipe StartedAt: 2025-02-03 17:00:00 -0500 (Mon, 03 Feb 2025) EndedAt: 2025-02-03 17:01:26 -0500 (Mon, 03 Feb 2025) EllapsedTime: 86.1 seconds RetCode: 0 Status: OK