Package: methylPipe Version: 1.40.0 Command: /home/biocbuild/R/R/bin/R CMD build --keep-empty-dirs --no-resave-data methylPipe StartedAt: 2025-02-04 00:53:18 -0000 (Tue, 04 Feb 2025) EndedAt: 2025-02-04 00:56:15 -0000 (Tue, 04 Feb 2025) EllapsedTime: 177.1 seconds RetCode: 0 Status: OK PackageFile: methylPipe_1.40.0.tar.gz PackageFileSize: 785.8 KiB