Package: methylPipe Version: 1.40.0 Command: /home/biocbuild/R/R/bin/R CMD INSTALL methylPipe StartedAt: 2025-02-03 20:59:32 -0000 (Mon, 03 Feb 2025) EndedAt: 2025-02-03 21:00:38 -0000 (Mon, 03 Feb 2025) EllapsedTime: 66.1 seconds RetCode: 0 Status: OK