Package: mgsa Version: 1.54.0 Command: /home/biocbuild/bbs-3.20-bioc/R/bin/R CMD check --install=check:mgsa.install-out.txt --library=/home/biocbuild/bbs-3.20-bioc/R/site-library --timings mgsa_1.54.0.tar.gz StartedAt: 2025-02-10 23:55:48 -0500 (Mon, 10 Feb 2025) EndedAt: 2025-02-10 23:56:30 -0500 (Mon, 10 Feb 2025) EllapsedTime: 42.0 seconds RetCode: 0 Status: WARNINGS CheckDir: mgsa.Rcheck Warnings: 1