Package: miRBaseConverter Version: 1.30.0 Command: rm -rf miRBaseConverter.buildbin-libdir && mkdir miRBaseConverter.buildbin-libdir && /Users/biocbuild/BBS/utils/build-universal.sh miRBaseConverter_1.30.0.tar.gz /Library/Frameworks/R.framework/Resources/bin/R miRBaseConverter.buildbin-libdir StartedAt: 2025-02-12 15:55:04 -0500 (Wed, 12 Feb 2025) EndedAt: 2025-02-12 15:55:27 -0500 (Wed, 12 Feb 2025) EllapsedTime: 23.8 seconds RetCode: 0 Status: OK PackageFile: miRBaseConverter_1.30.0.tgz PackageFileSize: 1.983 MiB