Package: miRBaseConverter Version: 1.30.0 Command: /Library/Frameworks/R.framework/Resources/bin/R CMD build --keep-empty-dirs --no-resave-data miRBaseConverter StartedAt: 2025-02-10 20:20:56 -0500 (Mon, 10 Feb 2025) EndedAt: 2025-02-10 20:21:44 -0500 (Mon, 10 Feb 2025) EllapsedTime: 48.4 seconds RetCode: 0 Status: OK PackageFile: miRBaseConverter_1.30.0.tar.gz PackageFileSize: 1.939 MiB