Package: miRBaseConverter Version: 1.30.0 Command: rm -rf miRBaseConverter.buildbin-libdir && mkdir miRBaseConverter.buildbin-libdir && F:\biocbuild\bbs-3.20-bioc\R\bin\R.exe CMD INSTALL --build --library=miRBaseConverter.buildbin-libdir miRBaseConverter_1.30.0.tar.gz StartedAt: 2025-02-04 08:56:25 -0500 (Tue, 04 Feb 2025) EndedAt: 2025-02-04 08:57:05 -0500 (Tue, 04 Feb 2025) EllapsedTime: 39.7 seconds RetCode: 0 Status: OK PackageFile: miRBaseConverter_1.30.0.zip PackageFileSize: 1.988 MiB