Package: miRLAB Version: 1.36.0 Command: rm -rf miRLAB.buildbin-libdir && mkdir miRLAB.buildbin-libdir && /Users/biocbuild/BBS/utils/build-universal.sh miRLAB_1.36.0.tar.gz /Library/Frameworks/R.framework/Resources/bin/R miRLAB.buildbin-libdir StartedAt: 2025-02-01 15:45:48 -0500 (Sat, 01 Feb 2025) EndedAt: 2025-02-01 15:46:33 -0500 (Sat, 01 Feb 2025) EllapsedTime: 44.4 seconds RetCode: 0 Status: OK PackageFile: miRLAB_1.36.0.tgz PackageFileSize: 303.4 KiB