Package: miRLAB Version: 1.36.0 Command: /Library/Frameworks/R.framework/Resources/bin/R CMD check --install=check:miRLAB.install-out.txt --library=/Library/Frameworks/R.framework/Resources/library --no-vignettes --timings miRLAB_1.36.0.tar.gz StartedAt: 2025-02-01 01:27:21 -0500 (Sat, 01 Feb 2025) EndedAt: 2025-02-01 01:31:53 -0500 (Sat, 01 Feb 2025) EllapsedTime: 272.0 seconds RetCode: 0 Status: WARNINGS CheckDir: miRLAB.Rcheck Warnings: 1