Package: miRLAB Version: 1.36.0 Command: /Library/Frameworks/R.framework/Resources/bin/R CMD INSTALL miRLAB StartedAt: 2025-01-30 17:18:22 -0500 (Thu, 30 Jan 2025) EndedAt: 2025-01-30 17:19:04 -0500 (Thu, 30 Jan 2025) EllapsedTime: 41.6 seconds RetCode: 0 Status: OK