Package: miRLAB Version: 1.36.0 Command: /Library/Frameworks/R.framework/Resources/bin/R CMD build --keep-empty-dirs --no-resave-data miRLAB StartedAt: 2025-01-30 20:45:08 -0500 (Thu, 30 Jan 2025) EndedAt: 2025-01-30 20:47:04 -0500 (Thu, 30 Jan 2025) EllapsedTime: 115.3 seconds RetCode: 0 Status: OK PackageFile: miRLAB_1.36.0.tar.gz PackageFileSize: 192.2 KiB