Package: miRLAB Version: 1.36.0 Command: /Library/Frameworks/R.framework/Resources/bin/R CMD check --install=check:miRLAB.install-out.txt --library=/Library/Frameworks/R.framework/Resources/library --no-vignettes --timings miRLAB_1.36.0.tar.gz StartedAt: 2025-01-31 06:35:12 -0500 (Fri, 31 Jan 2025) EndedAt: 2025-01-31 06:43:18 -0500 (Fri, 31 Jan 2025) EllapsedTime: 486.0 seconds RetCode: 0 Status: WARNINGS CheckDir: miRLAB.Rcheck Warnings: 1