Package: miRLAB Version: 1.36.0 Command: /Library/Frameworks/R.framework/Resources/bin/R CMD INSTALL miRLAB StartedAt: 2025-01-30 16:17:01 -0500 (Thu, 30 Jan 2025) EndedAt: 2025-01-30 16:18:20 -0500 (Thu, 30 Jan 2025) EllapsedTime: 79.7 seconds RetCode: 0 Status: OK