Package: miRLAB Version: 1.36.0 Command: F:\biocbuild\bbs-3.20-bioc\R\bin\R.exe CMD check --no-multiarch --install=check:miRLAB.install-out.txt --library=F:\biocbuild\bbs-3.20-bioc\R\library --no-vignettes --timings miRLAB_1.36.0.tar.gz StartedAt: 2025-01-31 03:59:04 -0500 (Fri, 31 Jan 2025) EndedAt: 2025-01-31 04:03:38 -0500 (Fri, 31 Jan 2025) EllapsedTime: 274.2 seconds RetCode: 0 Status: WARNINGS CheckDir: miRLAB.Rcheck Warnings: 1