Package: miRLAB Version: 1.36.0 Command: /home/biocbuild/R/R/bin/R CMD build --keep-empty-dirs --no-resave-data miRLAB StartedAt: 2025-01-31 00:57:46 -0000 (Fri, 31 Jan 2025) EndedAt: 2025-01-31 00:58:30 -0000 (Fri, 31 Jan 2025) EllapsedTime: 44.0 seconds RetCode: 0 Status: OK PackageFile: miRLAB_1.36.0.tar.gz PackageFileSize: 192.8 KiB