Package: miRLAB Version: 1.36.0 Command: /home/biocbuild/R/R/bin/R CMD check --install=check:miRLAB.install-out.txt --library=/home/biocbuild/R/R/site-library --no-vignettes --timings miRLAB_1.36.0.tar.gz StartedAt: 2025-01-31 08:09:17 -0000 (Fri, 31 Jan 2025) EndedAt: 2025-01-31 08:13:57 -0000 (Fri, 31 Jan 2025) EllapsedTime: 280.4 seconds RetCode: 0 Status: WARNINGS CheckDir: miRLAB.Rcheck Warnings: 1