Package: miRLAB Version: 1.36.0 Command: /home/biocbuild/R/R/bin/R CMD INSTALL miRLAB StartedAt: 2025-01-30 20:51:21 -0000 (Thu, 30 Jan 2025) EndedAt: 2025-01-30 20:52:05 -0000 (Thu, 30 Jan 2025) EllapsedTime: 44.1 seconds RetCode: 0 Status: OK