Package: miRNApath Version: 1.66.0 Command: rm -rf miRNApath.buildbin-libdir && mkdir miRNApath.buildbin-libdir && /Users/biocbuild/BBS/utils/build-universal.sh miRNApath_1.66.0.tar.gz /Library/Frameworks/R.framework/Resources/bin/R miRNApath.buildbin-libdir StartedAt: 2025-02-05 16:41:36 -0500 (Wed, 05 Feb 2025) EndedAt: 2025-02-05 16:41:41 -0500 (Wed, 05 Feb 2025) EllapsedTime: 4.6 seconds RetCode: 0 Status: OK PackageFile: miRNApath_1.66.0.tgz PackageFileSize: 827.5 KiB