Package: miRNApath Version: 1.66.0 Command: /Library/Frameworks/R.framework/Resources/bin/R CMD INSTALL miRNApath StartedAt: 2025-02-03 15:08:52 -0500 (Mon, 03 Feb 2025) EndedAt: 2025-02-03 15:08:56 -0500 (Mon, 03 Feb 2025) EllapsedTime: 3.8 seconds RetCode: 0 Status: OK