Package: miRNApath Version: 1.66.0 Command: rm -rf miRNApath.buildbin-libdir && mkdir miRNApath.buildbin-libdir && /Users/biocbuild/BBS/utils/build-universal.sh miRNApath_1.66.0.tar.gz /Library/Frameworks/R.framework/Resources/bin/R miRNApath.buildbin-libdir StartedAt: 2024-11-09 16:59:11 -0500 (Sat, 09 Nov 2024) EndedAt: 2024-11-09 16:59:14 -0500 (Sat, 09 Nov 2024) EllapsedTime: 2.0 seconds RetCode: 0 Status: OK PackageFile: miRNApath_1.66.0.tgz PackageFileSize: 828.4 KiB